BEGIN:VCALENDAR
VERSION:2.0
PRODID:icalendar-ruby
CALSCALE:GREGORIAN
METHOD:PUBLISH
BEGIN:VEVENT
DTSTAMP:20260424T101351Z
UID:37-1339045@calvarycbc.org
DTSTART:20260919T110000Z
DTEND:20260919T120000Z
CLASS:PUBLIC
CREATED:20260423T221330
DESCRIPTION:
LAST-MODIFIED:20260423T221330
LOCATION:Calvary Covenant Brethren Church
SUMMARY:Korean Sunrise Worship
URL;VALUE=URI:https://www.calvarycbc.org/events/korean-sunrise-worship/2026
 -09-19
END:VEVENT
END:VCALENDAR
