BEGIN:VCALENDAR
VERSION:2.0
PRODID:icalendar-ruby
CALSCALE:GREGORIAN
METHOD:PUBLISH
BEGIN:VEVENT
DTSTAMP:20260424T130438Z
UID:37-1340181@calvarycbc.org
DTSTART:20261003T110000Z
DTEND:20261003T120000Z
CLASS:PUBLIC
CREATED:20260424T074149
DESCRIPTION:
LAST-MODIFIED:20260424T074149
LOCATION:Calvary Covenant Brethren Church
SUMMARY:Korean Sunrise Worship
URL;VALUE=URI:https://www.calvarycbc.org/events/korean-sunrise-worship/2026
 -10-03
END:VEVENT
END:VCALENDAR
