BEGIN:VCALENDAR
VERSION:2.0
PRODID:icalendar-ruby
CALSCALE:GREGORIAN
METHOD:PUBLISH
BEGIN:VEVENT
DTSTAMP:20260420T141611Z
UID:274-1314279@calvarycbc.org
DTSTART:20240812T213000Z
DTEND:20240812T223000Z
CLASS:PUBLIC
CREATED:20260420T100419
DESCRIPTION:
LAST-MODIFIED:20260420T100419
LOCATION:Church
SUMMARY:Sweet Hour of Prayer
URL;VALUE=URI:https://www.calvarycbc.org/events/sweet-hour-of-prayer--274/2
 024-08-12
END:VEVENT
END:VCALENDAR
