BEGIN:VCALENDAR
VERSION:2.0
PRODID:icalendar-ruby
CALSCALE:GREGORIAN
METHOD:PUBLISH
BEGIN:VEVENT
DTSTAMP:20260420T154604Z
UID:274-1314280@calvarycbc.org
DTSTART:20240819T213000Z
DTEND:20240819T223000Z
CLASS:PUBLIC
CREATED:20260420T100419
DESCRIPTION:
LAST-MODIFIED:20260420T100419
LOCATION:Church
SUMMARY:Sweet Hour of Prayer
URL;VALUE=URI:https://www.calvarycbc.org/events/sweet-hour-of-prayer--274/2
 024-08-19
END:VEVENT
END:VCALENDAR
