BEGIN:VCALENDAR
VERSION:2.0
PRODID:icalendar-ruby
CALSCALE:GREGORIAN
METHOD:PUBLISH
BEGIN:VEVENT
DTSTAMP:20260420T203748Z
UID:274-1316544@calvarycbc.org
DTSTART:20240909T213000Z
DTEND:20240909T223000Z
CLASS:PUBLIC
CREATED:20260420T151254
DESCRIPTION:
LAST-MODIFIED:20260420T151254
LOCATION:Church
SUMMARY:Sweet Hour of Prayer
URL;VALUE=URI:https://www.calvarycbc.org/events/sweet-hour-of-prayer--274/2
 024-09-09
END:VEVENT
END:VCALENDAR
