BEGIN:VCALENDAR
VERSION:2.0
PRODID:icalendar-ruby
CALSCALE:GREGORIAN
METHOD:PUBLISH
BEGIN:VEVENT
DTSTAMP:20260420T220423Z
UID:274-1317676@calvarycbc.org
DTSTART:20240916T213000Z
DTEND:20240916T223000Z
CLASS:PUBLIC
CREATED:20260420T174852
DESCRIPTION:
LAST-MODIFIED:20260420T174852
LOCATION:Church
SUMMARY:Sweet Hour of Prayer
URL;VALUE=URI:https://www.calvarycbc.org/events/sweet-hour-of-prayer--274/2
 024-09-16
END:VEVENT
END:VCALENDAR
