BEGIN:VCALENDAR
VERSION:2.0
PRODID:icalendar-ruby
CALSCALE:GREGORIAN
METHOD:PUBLISH
BEGIN:VEVENT
DTSTAMP:20260420T233721Z
UID:274-1317677@calvarycbc.org
DTSTART:20240923T213000Z
DTEND:20240923T223000Z
CLASS:PUBLIC
CREATED:20260420T174852
DESCRIPTION:
LAST-MODIFIED:20260420T174852
LOCATION:Church
SUMMARY:Sweet Hour of Prayer
URL;VALUE=URI:https://www.calvarycbc.org/events/sweet-hour-of-prayer--274/2
 024-09-23
END:VEVENT
END:VCALENDAR
