BEGIN:VCALENDAR
VERSION:2.0
PRODID:icalendar-ruby
CALSCALE:GREGORIAN
METHOD:PUBLISH
BEGIN:VEVENT
DTSTAMP:20260423T083154Z
UID:274-1332405@calvarycbc.org
DTSTART:20240930T213000Z
DTEND:20240930T223000Z
CLASS:PUBLIC
CREATED:20260422T221126
DESCRIPTION:
LAST-MODIFIED:20260422T221126
LOCATION:Church
SUMMARY:Sweet Hour of Prayer
URL;VALUE=URI:https://www.calvarycbc.org/events/sweet-hour-of-prayer--274/2
 024-09-30
END:VEVENT
END:VCALENDAR
