BEGIN:VCALENDAR
VERSION:2.0
PRODID:icalendar-ruby
CALSCALE:GREGORIAN
METHOD:PUBLISH
BEGIN:VEVENT
DTSTAMP:20260423T154713Z
UID:274-1334676@calvarycbc.org
DTSTART:20241104T223000Z
DTEND:20241104T233000Z
CLASS:PUBLIC
CREATED:20260423T103445
DESCRIPTION:
LAST-MODIFIED:20260423T103445
LOCATION:Church
SUMMARY:Sweet Hour of Prayer
URL;VALUE=URI:https://www.calvarycbc.org/events/sweet-hour-of-prayer--274/2
 024-11-04
END:VEVENT
END:VCALENDAR
