BEGIN:VCALENDAR
VERSION:2.0
PRODID:icalendar-ruby
CALSCALE:GREGORIAN
METHOD:PUBLISH
BEGIN:VEVENT
DTSTAMP:20260423T194525Z
UID:274-1335812@calvarycbc.org
DTSTART:20241125T223000Z
DTEND:20241125T233000Z
CLASS:PUBLIC
CREATED:20260423T133000
DESCRIPTION:
LAST-MODIFIED:20260423T133000
LOCATION:Church
SUMMARY:Sweet Hour of Prayer
URL;VALUE=URI:https://www.calvarycbc.org/events/sweet-hour-of-prayer--274/2
 024-11-25
END:VEVENT
END:VCALENDAR
