BEGIN:VCALENDAR
VERSION:2.0
PRODID:icalendar-ruby
CALSCALE:GREGORIAN
METHOD:PUBLISH
BEGIN:VEVENT
DTSTAMP:20260423T220831Z
UID:274-1336947@calvarycbc.org
DTSTART:20241209T223000Z
DTEND:20241209T233000Z
CLASS:PUBLIC
CREATED:20260423T162557
DESCRIPTION:
LAST-MODIFIED:20260423T162557
LOCATION:Church
SUMMARY:Sweet Hour of Prayer
URL;VALUE=URI:https://www.calvarycbc.org/events/sweet-hour-of-prayer--274/2
 024-12-09
END:VEVENT
END:VCALENDAR
