BEGIN:VCALENDAR
VERSION:2.0
PRODID:icalendar-ruby
CALSCALE:GREGORIAN
METHOD:PUBLISH
BEGIN:VEVENT
DTSTAMP:20260423T232708Z
UID:274-1338081@calvarycbc.org
DTSTART:20241216T223000Z
DTEND:20241216T233000Z
CLASS:PUBLIC
CREATED:20260423T191945
DESCRIPTION:
LAST-MODIFIED:20260423T191945
LOCATION:Church
SUMMARY:Sweet Hour of Prayer
URL;VALUE=URI:https://www.calvarycbc.org/events/sweet-hour-of-prayer--274/2
 024-12-16
END:VEVENT
END:VCALENDAR
