BEGIN:VCALENDAR
VERSION:2.0
PRODID:icalendar-ruby
CALSCALE:GREGORIAN
METHOD:PUBLISH
BEGIN:VEVENT
DTSTAMP:20260424T020337Z
UID:274-1338083@calvarycbc.org
DTSTART:20241230T223000Z
DTEND:20241230T233000Z
CLASS:PUBLIC
CREATED:20260423T191945
DESCRIPTION:
LAST-MODIFIED:20260423T191945
LOCATION:Church
SUMMARY:Sweet Hour of Prayer
URL;VALUE=URI:https://www.calvarycbc.org/events/sweet-hour-of-prayer--274/2
 024-12-30
END:VEVENT
END:VCALENDAR
