BEGIN:VCALENDAR
VERSION:2.0
PRODID:icalendar-ruby
CALSCALE:GREGORIAN
METHOD:PUBLISH
BEGIN:VEVENT
DTSTAMP:20260424T082442Z
UID:274-1339222@calvarycbc.org
DTSTART:20250203T223000Z
DTEND:20250203T233000Z
CLASS:PUBLIC
CREATED:20260423T221330
DESCRIPTION:
LAST-MODIFIED:20260423T221330
LOCATION:Church
SUMMARY:Sweet Hour of Prayer
URL;VALUE=URI:https://www.calvarycbc.org/events/sweet-hour-of-prayer--274/2
 025-02-03
END:VEVENT
END:VCALENDAR
