BEGIN:VCALENDAR
VERSION:2.0
PRODID:icalendar-ruby
CALSCALE:GREGORIAN
METHOD:PUBLISH
BEGIN:VEVENT
DTSTAMP:20260423T235130Z
UID:409-1338498@calvarycbc.org
DTSTART:20260726T150000Z
DTEND:20260726T160000Z
CLASS:PUBLIC
CREATED:20260423T191946
DESCRIPTION:
LAST-MODIFIED:20260423T191946
LOCATION:
SUMMARY:Traditional Worship Service
URL;VALUE=URI:https://www.calvarycbc.org/events/traditional-worship-service
 --409/2026-07-26
END:VEVENT
END:VCALENDAR
