BEGIN:VCALENDAR
VERSION:2.0
PRODID:icalendar-ruby
CALSCALE:GREGORIAN
METHOD:PUBLISH
BEGIN:VEVENT
DTSTAMP:20260424T130511Z
UID:409-1340776@calvarycbc.org
DTSTART:20261004T150000Z
DTEND:20261004T160000Z
CLASS:PUBLIC
CREATED:20260424T074150
DESCRIPTION:
LAST-MODIFIED:20260424T074150
LOCATION:
SUMMARY:Traditional Worship Service
URL;VALUE=URI:https://www.calvarycbc.org/events/traditional-worship-service
 --409/2026-10-04
END:VEVENT
END:VCALENDAR
