BEGIN:VCALENDAR
VERSION:2.0
PRODID:icalendar-ruby
CALSCALE:GREGORIAN
METHOD:PUBLISH
BEGIN:VEVENT
DTSTAMP:20260424T155632Z
UID:409-1341912@calvarycbc.org
DTSTART:20261018T150000Z
DTEND:20261018T160000Z
CLASS:PUBLIC
CREATED:20260424T103527
DESCRIPTION:
LAST-MODIFIED:20260424T103527
LOCATION:
SUMMARY:Traditional Worship Service
URL;VALUE=URI:https://www.calvarycbc.org/events/traditional-worship-service
 --409/2026-10-18
END:VEVENT
END:VCALENDAR
