BEGIN:VCALENDAR
VERSION:2.0
PRODID:icalendar-ruby
CALSCALE:GREGORIAN
METHOD:PUBLISH
BEGIN:VEVENT
DTSTAMP:20260424T171301Z
UID:409-1341913@calvarycbc.org
DTSTART:20261025T150000Z
DTEND:20261025T160000Z
CLASS:PUBLIC
CREATED:20260424T103527
DESCRIPTION:
LAST-MODIFIED:20260424T103527
LOCATION:
SUMMARY:Traditional Worship Service
URL;VALUE=URI:https://www.calvarycbc.org/events/traditional-worship-service
 --409/2026-10-25
END:VEVENT
END:VCALENDAR
