BEGIN:VCALENDAR
VERSION:2.0
PRODID:icalendar-ruby
CALSCALE:GREGORIAN
METHOD:PUBLISH
BEGIN:VEVENT
DTSTAMP:20260424T183831Z
UID:409-1343048@calvarycbc.org
DTSTART:20261101T160000Z
DTEND:20261101T170000Z
CLASS:PUBLIC
CREATED:20260424T132322
DESCRIPTION:
LAST-MODIFIED:20260424T132322
LOCATION:
SUMMARY:Traditional Worship Service
URL;VALUE=URI:https://www.calvarycbc.org/events/traditional-worship-service
 --409/2026-11-01
END:VEVENT
END:VCALENDAR
