BEGIN:VCALENDAR
VERSION:2.0
PRODID:icalendar-ruby
CALSCALE:GREGORIAN
METHOD:PUBLISH
BEGIN:VEVENT
DTSTAMP:20260424T130046Z
UID:33-1339967@calvarycbc.org
DTSTART:20260920T170000Z
DTEND:20260920T183000Z
CLASS:PUBLIC
CREATED:20260424T074149
DESCRIPTION:
LAST-MODIFIED:20260424T074149
LOCATION:Calvary Covenant Brethren Church
SUMMARY:Winchester Korean Presbyterian Church
URL;VALUE=URI:https://www.calvarycbc.org/events/winchester-korean-presbyter
 ian-church/2026-09-20
END:VEVENT
END:VCALENDAR
