BEGIN:VCALENDAR
VERSION:2.0
PRODID:icalendar-ruby
CALSCALE:GREGORIAN
METHOD:PUBLISH
BEGIN:VEVENT
DTSTAMP:20260424T142916Z
UID:33-1339968@calvarycbc.org
DTSTART:20260927T170000Z
DTEND:20260927T183000Z
CLASS:PUBLIC
CREATED:20260424T074149
DESCRIPTION:
LAST-MODIFIED:20260424T074149
LOCATION:Calvary Covenant Brethren Church
SUMMARY:Winchester Korean Presbyterian Church
URL;VALUE=URI:https://www.calvarycbc.org/events/winchester-korean-presbyter
 ian-church/2026-09-27
END:VEVENT
END:VCALENDAR
