BEGIN:VCALENDAR
VERSION:2.0
PRODID:icalendar-ruby
CALSCALE:GREGORIAN
METHOD:PUBLISH
BEGIN:VEVENT
DTSTAMP:20260424T171328Z
UID:33-1341104@calvarycbc.org
DTSTART:20261011T170000Z
DTEND:20261011T183000Z
CLASS:PUBLIC
CREATED:20260424T103526
DESCRIPTION:
LAST-MODIFIED:20260424T103526
LOCATION:Calvary Covenant Brethren Church
SUMMARY:Winchester Korean Presbyterian Church
URL;VALUE=URI:https://www.calvarycbc.org/events/winchester-korean-presbyter
 ian-church/2026-10-11
END:VEVENT
END:VCALENDAR
