BEGIN:VCALENDAR
VERSION:2.0
PRODID:icalendar-ruby
CALSCALE:GREGORIAN
METHOD:PUBLISH
BEGIN:VEVENT
DTSTAMP:20260424T213400Z
UID:33-1343375@calvarycbc.org
DTSTART:20261101T180000Z
DTEND:20261101T193000Z
CLASS:PUBLIC
CREATED:20260424T161008
DESCRIPTION:
LAST-MODIFIED:20260424T161008
LOCATION:Calvary Covenant Brethren Church
SUMMARY:Winchester Korean Presbyterian Church
URL;VALUE=URI:https://www.calvarycbc.org/events/winchester-korean-presbyter
 ian-church/2026-11-01
END:VEVENT
END:VCALENDAR
